BEGIN:VCALENDAR
VERSION:2.0
PRODID:-//SolaMed Solutions, LLC - ECPv6.15.20//NONSGML v1.0//EN
CALSCALE:GREGORIAN
METHOD:PUBLISH
X-ORIGINAL-URL:https://solamedsolutions.com
X-WR-CALDESC:Events for SolaMed Solutions, LLC
REFRESH-INTERVAL;VALUE=DURATION:PT1H
X-Robots-Tag:noindex
X-PUBLISHED-TTL:PT1H
BEGIN:VTIMEZONE
TZID:America/New_York
BEGIN:DAYLIGHT
TZOFFSETFROM:-0500
TZOFFSETTO:-0400
TZNAME:EDT
DTSTART:20250309T070000
END:DAYLIGHT
BEGIN:STANDARD
TZOFFSETFROM:-0400
TZOFFSETTO:-0500
TZNAME:EST
DTSTART:20251102T060000
END:STANDARD
BEGIN:DAYLIGHT
TZOFFSETFROM:-0500
TZOFFSETTO:-0400
TZNAME:EDT
DTSTART:20260308T070000
END:DAYLIGHT
BEGIN:STANDARD
TZOFFSETFROM:-0400
TZOFFSETTO:-0500
TZNAME:EST
DTSTART:20261101T060000
END:STANDARD
BEGIN:DAYLIGHT
TZOFFSETFROM:-0500
TZOFFSETTO:-0400
TZNAME:EDT
DTSTART:20270314T070000
END:DAYLIGHT
BEGIN:STANDARD
TZOFFSETFROM:-0400
TZOFFSETTO:-0500
TZNAME:EST
DTSTART:20271107T060000
END:STANDARD
END:VTIMEZONE
BEGIN:VEVENT
DTSTART;TZID=America/New_York:20260209T120000
DTEND;TZID=America/New_York:20260209T133000
DTSTAMP:20260423T195004
CREATED:20251118T012651Z
LAST-MODIFIED:20251118T012909Z
UID:6749-1770638400-1770643800@solamedsolutions.com
SUMMARY:What Bioethics Lessons Can Commercial Space Companies Learn from the Experience of the Space Agencies?
DESCRIPTION:Subject Matter Expert: Charles Doarn\, MBA
URL:https://solamedsolutions.com/event/what-bioethics-lessons-can-commercial-space-companies-learn-from-the-experience-of-the-space-agencies/
CATEGORIES:The Roundtable Series
END:VEVENT
END:VCALENDAR