BEGIN:VCALENDAR
VERSION:2.0
PRODID:-//SolaMed Solutions, LLC - ECPv6.15.20//NONSGML v1.0//EN
CALSCALE:GREGORIAN
METHOD:PUBLISH
X-WR-CALNAME:SolaMed Solutions, LLC
X-ORIGINAL-URL:https://solamedsolutions.com
X-WR-CALDESC:Events for SolaMed Solutions, LLC
REFRESH-INTERVAL;VALUE=DURATION:PT1H
X-Robots-Tag:noindex
X-PUBLISHED-TTL:PT1H
BEGIN:VTIMEZONE
TZID:America/New_York
BEGIN:DAYLIGHT
TZOFFSETFROM:-0500
TZOFFSETTO:-0400
TZNAME:EDT
DTSTART:20250309T070000
END:DAYLIGHT
BEGIN:STANDARD
TZOFFSETFROM:-0400
TZOFFSETTO:-0500
TZNAME:EST
DTSTART:20251102T060000
END:STANDARD
BEGIN:DAYLIGHT
TZOFFSETFROM:-0500
TZOFFSETTO:-0400
TZNAME:EDT
DTSTART:20260308T070000
END:DAYLIGHT
BEGIN:STANDARD
TZOFFSETFROM:-0400
TZOFFSETTO:-0500
TZNAME:EST
DTSTART:20261101T060000
END:STANDARD
BEGIN:DAYLIGHT
TZOFFSETFROM:-0500
TZOFFSETTO:-0400
TZNAME:EDT
DTSTART:20270314T070000
END:DAYLIGHT
BEGIN:STANDARD
TZOFFSETFROM:-0400
TZOFFSETTO:-0500
TZNAME:EST
DTSTART:20271107T060000
END:STANDARD
END:VTIMEZONE
BEGIN:VEVENT
DTSTART;TZID=America/New_York:20260115T120000
DTEND;TZID=America/New_York:20260115T133000
DTSTAMP:20260423T232530
CREATED:20251118T012600Z
LAST-MODIFIED:20260115T164708Z
UID:6747-1768478400-1768483800@solamedsolutions.com
SUMMARY:Getting Sick in Space: What are the Responsibilities of Commercial Space Companies
DESCRIPTION:Roundtable II: Medical Responsibilities in Flight Speaker Biographies \nSubject Matter Expert: Erike Antonsen\, MS\, PhD
URL:https://solamedsolutions.com/event/getting-sick-in-space-what-are-the-responsibilities-of-commercial-space-companies/
CATEGORIES:The Roundtable Series
END:VEVENT
END:VCALENDAR