BEGIN:VCALENDAR
VERSION:2.0
PRODID:-//SolaMed Solutions, LLC - ECPv6.15.20//NONSGML v1.0//EN
CALSCALE:GREGORIAN
METHOD:PUBLISH
X-WR-CALNAME:SolaMed Solutions, LLC
X-ORIGINAL-URL:https://solamedsolutions.com
X-WR-CALDESC:Events for SolaMed Solutions, LLC
REFRESH-INTERVAL;VALUE=DURATION:PT1H
X-Robots-Tag:noindex
X-PUBLISHED-TTL:PT1H
BEGIN:VTIMEZONE
TZID:America/New_York
BEGIN:DAYLIGHT
TZOFFSETFROM:-0500
TZOFFSETTO:-0400
TZNAME:EDT
DTSTART:20240310T070000
END:DAYLIGHT
BEGIN:STANDARD
TZOFFSETFROM:-0400
TZOFFSETTO:-0500
TZNAME:EST
DTSTART:20241103T060000
END:STANDARD
BEGIN:DAYLIGHT
TZOFFSETFROM:-0500
TZOFFSETTO:-0400
TZNAME:EDT
DTSTART:20250309T070000
END:DAYLIGHT
BEGIN:STANDARD
TZOFFSETFROM:-0400
TZOFFSETTO:-0500
TZNAME:EST
DTSTART:20251102T060000
END:STANDARD
BEGIN:DAYLIGHT
TZOFFSETFROM:-0500
TZOFFSETTO:-0400
TZNAME:EDT
DTSTART:20260308T070000
END:DAYLIGHT
BEGIN:STANDARD
TZOFFSETFROM:-0400
TZOFFSETTO:-0500
TZNAME:EST
DTSTART:20261101T060000
END:STANDARD
END:VTIMEZONE
BEGIN:VEVENT
DTSTART;TZID=America/New_York:20251218T120000
DTEND;TZID=America/New_York:20251218T133000
DTSTAMP:20260423T222049
CREATED:20251118T011935Z
LAST-MODIFIED:20251218T150121Z
UID:6745-1766059200-1766064600@solamedsolutions.com
SUMMARY:The Roundtable Series: Who Gets to Go?
DESCRIPTION:Bioethics in Commercial Space Travel–Who Gets to Go Resource Materials \nBioethics in Commercial Space Travel–Who Gets to Go Speaker Biographies \nSubject Matter Expert: Smith Johnston\, MD
URL:https://solamedsolutions.com/event/the-roundtable-series-who-gets-to-go/
CATEGORIES:The Roundtable Series
END:VEVENT
END:VCALENDAR