BEGIN:VCALENDAR
VERSION:2.0
PRODID:-//SolaMed Solutions, LLC - ECPv6.15.20//NONSGML v1.0//EN
CALSCALE:GREGORIAN
METHOD:PUBLISH
X-WR-CALNAME:SolaMed Solutions, LLC
X-ORIGINAL-URL:https://solamedsolutions.com
X-WR-CALDESC:Events for SolaMed Solutions, LLC
REFRESH-INTERVAL;VALUE=DURATION:PT1H
X-Robots-Tag:noindex
X-PUBLISHED-TTL:PT1H
BEGIN:VTIMEZONE
TZID:America/New_York
BEGIN:DAYLIGHT
TZOFFSETFROM:-0500
TZOFFSETTO:-0400
TZNAME:EDT
DTSTART:20250309T070000
END:DAYLIGHT
BEGIN:STANDARD
TZOFFSETFROM:-0400
TZOFFSETTO:-0500
TZNAME:EST
DTSTART:20251102T060000
END:STANDARD
BEGIN:DAYLIGHT
TZOFFSETFROM:-0500
TZOFFSETTO:-0400
TZNAME:EDT
DTSTART:20260308T070000
END:DAYLIGHT
BEGIN:STANDARD
TZOFFSETFROM:-0400
TZOFFSETTO:-0500
TZNAME:EST
DTSTART:20261101T060000
END:STANDARD
BEGIN:DAYLIGHT
TZOFFSETFROM:-0500
TZOFFSETTO:-0400
TZNAME:EDT
DTSTART:20270314T070000
END:DAYLIGHT
BEGIN:STANDARD
TZOFFSETFROM:-0400
TZOFFSETTO:-0500
TZNAME:EST
DTSTART:20271107T060000
END:STANDARD
END:VTIMEZONE
BEGIN:VEVENT
DTSTART;TZID=America/New_York:20260416T120000
DTEND;TZID=America/New_York:20260416T133000
DTSTAMP:20260423T195212
CREATED:20251118T013132Z
LAST-MODIFIED:20260416T150440Z
UID:6753-1776340800-1776346200@solamedsolutions.com
SUMMARY:Data & Research Ethics in Commercial Spaceflight
DESCRIPTION:Bioethics in Commercial Space Roundtable 5 Bios \nSubject Matter Expert: Dr Michael Schmidt
URL:https://solamedsolutions.com/event/data-research-ethics-commercial-spaceflight/
CATEGORIES:The Roundtable Series
END:VEVENT
BEGIN:VEVENT
DTSTART;TZID=America/New_York:20260521T120000
DTEND;TZID=America/New_York:20260521T133000
DTSTAMP:20260423T195212
CREATED:20251118T013249Z
LAST-MODIFIED:20251118T013249Z
UID:6755-1779364800-1779370200@solamedsolutions.com
SUMMARY:Policies and Procedures
DESCRIPTION:Subject Matter Expert: Megan Seifert\, Esq
URL:https://solamedsolutions.com/event/policies-and-procedures/
CATEGORIES:The Roundtable Series
END:VEVENT
END:VCALENDAR